BEGIN:VCALENDAR
VERSION:2.0
CALSCALE:GREGORIAN
PRODID:-//SAE Media Group//smgconferences.com AddToCalendar//EN
METHOD:PUBLISH
BEGIN:VEVENT
UID:6af557b46ed36ae583ec083abdd56be3
DTSTAMP:20260425T203531Z
DTSTART:20251020T073000Z
DTEND:20251021T144500Z
SEQUENCE:0
STATUS:CONFIRMED
SUMMARY:Counter UAS Maritime
DESCRIPTION:Counter UAS, Counter Drone, CUAS, Navy, Maritime, C-UAS, Red Sea, Houthi, Commercial Shipping, Anti-Drone, C-USV, C-UUV, Maritime Drones, Maritime Security\n\nhttps://www.smgconferences.com/defence/uk/conference/counter-uas-maritime
CATEGORIES:Conference
LOCATION:Hilton London Kensington, London
END:VEVENT
END:VCALENDAR
